data_42574-ICSD
#©2008 by Fachinformationszentrum Karlsruhe, and the U.S. Secretary of 
#Commerce on behalf of the United States.  All rights reserved.
_database_code_ICSD                42574
_audit_creation_date               2000/07/15
_audit_update_record               2006/04/01
_chemical_name_systematic          'Gold Cupride (1/1)'
_chemical_formula_structural       'Au Cu'
_chemical_formula_sum              'Au1 Cu1'
_chemical_name_mineral             Tetraauricupride
_publ_section_title
;
Lattice parameters of the Cu Au(I) phase
;
loop_
_citation_id
_citation_journal_abbrev
_citation_year
_citation_journal_volume
_citation_page_first
_citation_page_last
_citation_journal_id_ASTM
primary 'Acta Chemica Scandinavica (1-27,1973-42,1988)' 1967 21 2900 2902 ACSAA4
2 'Nippon Kinzoku Gakkai Kaiho' 1983 47 912 917 NKZKAU
_publ_author_name
;
Bjerkelund, E.;Pearson, W.B.;Selte, K.;Kjekshus, A.
;
_cell_length_a                     2.802
_cell_length_b                     2.802
_cell_length_c                     3.671
_cell_angle_alpha                  90.
_cell_angle_beta                   90.
_cell_angle_gamma                  90.
_cell_volume                       28.82
_cell_formula_units_Z              1
_symmetry_space_group_name_H-M     'P 4/m m m'
_symmetry_Int_Tables_number        123
loop_
_symmetry_equiv_pos_site_id
_symmetry_equiv_pos_as_xyz
  1	'y, x, -z'
  2	'-y, -x, -z'
  3	'-y, x, -z'
  4	'y, -x, -z'
  5	'-x, y, -z'
  6	'x, -y, -z'
  7	'x, y, -z'
  8	'-x, -y, -z'
  9	'-y, -x, z'
 10	'y, x, z'
 11	'y, -x, z'
 12	'-y, x, z'
 13	'x, -y, z'
 14	'-x, y, z'
 15	'-x, -y, z'
 16	'x, y, z'
loop_
_atom_type_symbol
_atom_type_oxidation_number
Au0+	0
Cu0+	0
loop_
_atom_site_label
_atom_site_type_symbol
_atom_site_symmetry_multiplicity
_atom_site_Wyckoff_symbol
_atom_site_fract_x
_atom_site_fract_y
_atom_site_fract_z
_atom_site_occupancy
_atom_site_attached_hydrogens
Au1 Au0+ 1 a 0 0 0 1. 0 
Cu1 Cu0+ 1 d 0.5 0.5 0.5 1. 0 

#End of data_42574-ICSD


